BEGIN:VCALENDAR
VERSION:2.0
PRODID:-//Binna Burra Lodge - ECPv6.15.20//NONSGML v1.0//EN
CALSCALE:GREGORIAN
METHOD:PUBLISH
X-WR-CALNAME:Binna Burra Lodge
X-ORIGINAL-URL:https://www.binnaburralodge.com.au
X-WR-CALDESC:Events for Binna Burra Lodge
REFRESH-INTERVAL;VALUE=DURATION:PT1H
X-Robots-Tag:noindex
X-PUBLISHED-TTL:PT1H
BEGIN:VTIMEZONE
TZID:Australia/Brisbane
BEGIN:STANDARD
TZOFFSETFROM:+1000
TZOFFSETTO:+1000
TZNAME:AEST
DTSTART:20250101T000000
END:STANDARD
END:VTIMEZONE
BEGIN:VEVENT
DTSTART;TZID=Australia/Brisbane:20261122T081500
DTEND;TZID=Australia/Brisbane:20261122T110000
DTSTAMP:20260424T011300
CREATED:20251127T013114Z
LAST-MODIFIED:20260106T041431Z
UID:21182-1795335300-1795345200@www.binnaburralodge.com.au
SUMMARY:Binna Burra Lodge Annual General Meeting (AGM) – 22 Nov 2026
DESCRIPTION:Information:\n\nHall on Graceleigh (next to the Beechmont State School)1922 Beechmont Road\, Beechmont 4211\, Queensland\nSunday\, 22 November\, 2025\n\n\nSchedule\n\nRegistration: 08.15 am\nAnnual General Meeting:  Commences: 09:00 am\, scheduled for completion at 10:30 am\nShort break: 10:30 am to 10:45 am\nGeneral discussion: 10:45 am to 12:00 pm\n\n\nRegister your attendance: Link to be advised at least two months before the AGM\nJoin via Zoom:  Link to be advised at least two months before the AGM\n\nCatch up on the Chair’s Presentation and Minutes from the 2025 Annual General Meeting \n\nChair’s Presentation AGM 2025\nDraft Minutes from the AGM 2025
URL:https://www.binnaburralodge.com.au/event/binna-burra-lodge-annual-general-meeting-agm-22-nov-2026/
LOCATION:Hall on Graceleigh\, Beechmont 4211\, 1922 Beechmont Rd\, Beechmont\, Queensland\, 4211\, Australia
CATEGORIES:Events,Shareholders
ATTACH;FMTTYPE=image/jpeg:https://www.binnaburralodge.com.au/wp-content/uploads/2022/12/AGM-2022.jpg
ORGANIZER;CN="Binna Burra":MAILTO:reception@binnaburralodge.com.au
END:VEVENT
END:VCALENDAR